BEGIN:VCALENDAR
VERSION:2.0
PRODID:-//ChamberMaster//Event Calendar 2.0//EN
METHOD:PUBLISH
X-PUBLISHED-TTL:P3D
REFRESH-INTERVAL:P3D
CALSCALE:GREGORIAN
BEGIN:VEVENT
DTSTART:20251018T150000Z
DTEND:20251018T210000Z
X-MICROSOFT-CDO-ALLDAYEVENT:FALSE
SUMMARY:Antique Tractor Pull
DESCRIPTION:Bring the family and watch Antique tractors from around Texas as they compete to pull the heaviest weight the farthest. Get your tickets to the fundraiser G U N raffle with lots of prizes! Wholesome fun for the whole family. It's Harvest Time in the pumpkin patch brought to you by the Boerne United Methodist Church! You can also purchase your Halloween pumpkins and have some great photo ops too! Free admission and a donation to the AgriCultural Museum and Arts Center is welcomed to support our mission of preserving the past for future generations.
X-ALT-DESC;FMTTYPE=text/html:Bring the family and watch Antique tractors from around Texas as they compete to pull the heaviest weight the farthest. Get your tickets to the fundraiser G U N raffle with lots of prizes! Wholesome fun for the whole family. It&#39\;s Harvest Time in the pumpkin patch brought to you by the Boerne United Methodist Church! You can also purchase your Halloween pumpkins and have some great photo ops too! Free admission and a donation to the AgriCultural Museum and Arts Center is welcomed to support our mission of preserving the past for future generations.
LOCATION:The AgriCultural Museum & Arts Center 102 City Park Rd Boerne\, TX. 780006
UID:e.187.31793
SEQUENCE:3
DTSTAMP:20260420T054557Z
URL:http://boernechamber.chambermaster.com/events/details/antique-tractor-pull-31793
END:VEVENT

END:VCALENDAR
