BEGIN:VCALENDAR
VERSION:2.0
PRODID:-//ChamberMaster//Event Calendar 2.0//EN
METHOD:PUBLISH
X-PUBLISHED-TTL:P3D
REFRESH-INTERVAL:P3D
CALSCALE:GREGORIAN
BEGIN:VEVENT
DTSTART:20250614T140000Z
DTEND:20250614T170000Z
X-MICROSOFT-CDO-ALLDAYEVENT:FALSE
SUMMARY:BirdTech Workshop
DESCRIPTION:Love birds and want to level up your birding game with modern tools? This workshop is for you! Join Audubon birders and Alamo Chapter Texas Master Naturalists\, Tom and Patsy Inglet\, for a hands-on introduction to tech-savvy birding. You'll learn how to use apps like Merlin Bird ID\, eBird\, and other cutting-edge tools to find\, identify\, and track birds more easily and accurately. Get ready to explore how technology can make birdwatching even more fun and rewarding.
X-ALT-DESC;FMTTYPE=text/html:Love birds and want to level up your birding game with modern tools? This workshop is for you! Join Audubon birders and Alamo Chapter Texas Master Naturalists\, Tom and Patsy Inglet\, for a hands-on introduction to tech-savvy birding. You&rsquo\;ll learn how to use apps like Merlin Bird ID\, eBird\, and other cutting-edge tools to find\, identify\, and track birds more easily and accurately. Get ready to explore how technology can make birdwatching even more fun and rewarding.
LOCATION:Hunke Gathering Hall at Herff Farm 33 Herff Rd Boerne\, Texas 78006
UID:e.187.29815
SEQUENCE:3
DTSTAMP:20260421T073219Z
URL:http://boernechamber.chambermaster.com/events/details/birdtech-workshop-29815
END:VEVENT

END:VCALENDAR
