BEGIN:VCALENDAR
VERSION:2.0
PRODID:-//ChamberMaster//Event Calendar 2.0//EN
METHOD:PUBLISH
X-PUBLISHED-TTL:P3D
REFRESH-INTERVAL:P3D
CALSCALE:GREGORIAN
BEGIN:VEVENT
DTSTART:20250510T183000Z
DTEND:20250510T200000Z
X-MICROSOFT-CDO-ALLDAYEVENT:FALSE
SUMMARY:Tomato Workshop
DESCRIPTION:Come grow with us and learn about caring for tomatoes!\n\nEmbark on a journey to cultivate your own bountiful tomato garden in our hands-on Tomato Gardening Workshop! Whether you're a seasoned gardener or a complete beginner\, this workshop is designed to help you grow healthy\, thriving tomato plants from start to finish. The best part? You get to taste them too!\n\nWorkshop Highlights:\n\n\n	Choosing the Right Tomato Varieties\n	Planting and Soil Preparation\n	Caring for Tomato Plants\n	Pest and Disease Management\n	Harvesting Tips\n	Troubleshooting and Common Issues\n\n\nTomato plants\, seeds\, and educational resources will be given to each participant for them to take home. We ask participants to bring their own gloves\, pruners\, and positivity!\n\nInstructor: Emily Nickerson\, Farm Manager
X-ALT-DESC;FMTTYPE=text/html:<h2>Come grow with us and learn about caring for tomatoes!</h2>\n\n<p>Embark on a journey to cultivate your own bountiful tomato garden in our hands-on Tomato Gardening Workshop! Whether you&rsquo\;re a seasoned gardener or a complete beginner\, this workshop is designed to help you grow healthy\, thriving tomato plants from start to finish. The best part? You get to taste them too!</p>\n\n<h3>Workshop Highlights:</h3>\n\n<ul>\n	<li>Choosing the Right Tomato Varieties</li>\n	<li>Planting and Soil Preparation</li>\n	<li>Caring for Tomato Plants</li>\n	<li>Pest and Disease Management</li>\n	<li>Harvesting Tips</li>\n	<li>Troubleshooting and Common Issues</li>\n</ul>\n\n<p>Tomato plants\, seeds\, and&nbsp\;educational resources will be given to each participant for them to take home. We ask participants to bring their own gloves\, pruners\, and&nbsp\;positivity!</p>\n\n<p>Instructor: Emily Nickerson\, Farm Manager</p>\n
LOCATION:Teaching Garden at Herff Farm (33 Herff Rd. Boerne\, TX)
UID:e.187.29385
SEQUENCE:3
DTSTAMP:20260421T220537Z
URL:http://boernechamber.chambermaster.com/events/details/tomato-workshop-29385
END:VEVENT

END:VCALENDAR
